BEGIN:VCALENDAR
VERSION:2.0
PRODID:-//Orthodoxe Parochie Brugge - ECPv3.12.3//NONSGML v1.0//EN
CALSCALE:GREGORIAN
METHOD:PUBLISH
X-WR-CALNAME:Orthodoxe Parochie Brugge
X-ORIGINAL-URL:https://brugge.orthodoxia.be
X-WR-CALDESC:Events for Orthodoxe Parochie Brugge
BEGIN:VEVENT
DTSTART:20200417T120000Z
DTEND:20200418T080000Z
DTSTAMP:20260421T165903Z
CREATED:20200417T122149Z
LAST-MODIFIED:20200417T122649Z
UID:12211-1587124800-1587196800@brugge.orthodoxia.be
SUMMARY:LUISTER HIER: Naar de Dienst van de Graflegging van Christus
DESCRIPTION:\nLuister hier naar de opname van de Dienst van de Graflegging\nvan Christus of ‘Epitafios’ (Gent 1984)\nKLIK HIER\n\n\n\n\nDeze audio-opname biedt ons de mogelijkheid om thuis\, “in ons kot”\, toch nog wat mee te pikken van de grootsheid van de orthodoxe liturgische beleving in de Heilige en Grote Week.\nHet betreft een opname van de Dienst van de Graflegging van Christus\, opgenomen in de Orthodoxe Parochie van de Heilige Apostel Andreas te Gent in het jaar 1984. De celebranten waren: Aartspriester Igance Peckstadt (†) en Diaken Marcel (Silouan) Osseel (†).\nHet koor stond o.l.v. Monique Snauwaert (†). De klaagliederen worden deel gezongen door Kretenzische scouts die toen op bezoek waren.\nOM DE DIENST TE BELUISTEREN: KLIK HIER\n\n
URL:https://brugge.orthodoxia.be/event/luister-hier-naar-de-dienst-van-de-graflegging-van-christus/
LOCATION:Sophie van Akenstraat 56\, Gent\, Belgium
CATEGORIES:Evenementen,Liturgische diensten
ORGANIZER;CN="Orthodoxe%20Parochie%20Brugge":MAILTO:orthodoxie.brugge@skynet.be
END:VEVENT
END:VCALENDAR