BEGIN:VCALENDAR
VERSION:2.0
PRODID:-//Orthodoxe Parochie Brugge - ECPv3.12.3//NONSGML v1.0//EN
CALSCALE:GREGORIAN
METHOD:PUBLISH
X-WR-CALNAME:Orthodoxe Parochie Brugge
X-ORIGINAL-URL:https://brugge.orthodoxia.be
X-WR-CALDESC:Events for Orthodoxe Parochie Brugge
BEGIN:VEVENT
DTSTART:20200416T160000Z
DTEND:20200417T100000Z
DTSTAMP:20260421T165350Z
CREATED:20200416T184405Z
LAST-MODIFIED:20200416T184820Z
UID:12207-1587052800-1587117600@brugge.orthodoxia.be
SUMMARY:Grote donderdag - Beluister hier de podcast
DESCRIPTION: \nBeluister hier een podcast\nom de Dienst van het Heilig Lijden\n(12 EvangeliÃ«n) alsnog te vieren\n\nDierbare gelovigen\,\nWe beleven dit jaar een heel bizarre tijd en wel in het hart van het liturgisch jaar. Zo dienden we de meeste van de liturgische diensten van de Grote Vasten en nu deze van de Heilige en Grote Week en het grote feest van Christusâ€™ Verrijzenis te missen.\nOm tegemoet te komen aan uw verwachtingen\, hebben we een podcast gemaakt met de voornaamste fragmenten uit de Dienst van het Heilig Lijden van Christus. Zo kan u 12 geestelijken van ons Aartsbisdom\, Ã©Ã©n voor Ã©Ã©n 1 perikope uit het Evangelie horen voorlezen. Bijgevoegd vindt u de tekst van de Twaalf EvangeliÃ«n.\nVader Antonios Tarlizos en zijn dochtertje Katherina waren zo goed om enkele hymnen in te zingen\, waarvoor dank.\nWe moedigen u aan u in gebedssfeer aan te sluiten en deze mooie Dienst met ons mee te vieren\, zij het in andere omstandigheden!\nVoor Grote Vrijdag en de Paasnacht zullen we op deze website oude audio-opnames posten van de respectievelijke diensten gevierd in de schoot van de Orthodoxe Parochie van Gent begin de jaren â€™80.\nGod zegene ons allen en bescherme ons!\n\nVoor de dienst te beluisteren: KLIK HIER\n\nVoor de tekst van de Twaalf EvangeliÃ«n: klik hier.
URL:https://brugge.orthodoxia.be/event/grote-donderdag-beluister-hier-de-podcast/
LOCATION:Stalingradlaan 34\, Brussel\, Belgium
CATEGORIES:Evenementen,Liturgische diensten
ATTACH;FMTTYPE=image/jpeg:https://brugge.orthodoxia.be/wp-content/uploads/2016/04/kruisiging-van-jesus-pictogram-van-klooster-modovita-thumb13744797-1.jpg
END:VEVENT
END:VCALENDAR