BEGIN:VCALENDAR
VERSION:2.0
PRODID:-//Orthodoxe Parochie Brugge - ECPv3.12.3//NONSGML v1.0//EN
CALSCALE:GREGORIAN
METHOD:PUBLISH
X-WR-CALNAME:Orthodoxe Parochie Brugge
X-ORIGINAL-URL:https://brugge.orthodoxia.be
X-WR-CALDESC:Events for Orthodoxe Parochie Brugge
BEGIN:VEVENT
DTSTART:20190815T070000Z
DTEND:20190815T100000Z
DTSTAMP:20260422T061052Z
CREATED:20190710T215152Z
LAST-MODIFIED:20190727T213118Z
UID:10655-1565852400-1565863200@brugge.orthodoxia.be
SUMMARY:Metten. Evangelie : Feest Ontslaping van de alheilige Moeder Gods
DESCRIPTION:Feest van de Ontslaping van de alheilige Moeder Gods\nHoewel gij gebaard hebt\, zijt gij Maagd gebleven\, en na uw sterven hebt gij de wereld niet achtergelaten\nO Moeder Gods. Gij zijt opgestaan tot het leven\, o Moeder des Levens\, en door uw\ngebeden redt gij onze zielen van de dood.\n Metten. Evangelie : Lk 1:39-49\,56\n
URL:https://brugge.orthodoxia.be/event/metten-evangelie-lk-139-4956-feestenheiligen-ontslaping-van-de-alheilige-moeder-gods/
CATEGORIES:Evenementen,Liturgische diensten
END:VEVENT
END:VCALENDAR